BEGIN:VCALENDAR
VERSION:2.0
PRODID:-//Pillar Academy Strathroy - ECPv4.6.4//NONSGML v1.0//EN
CALSCALE:GREGORIAN
METHOD:PUBLISH
X-WR-CALNAME:Pillar Academy Strathroy
X-ORIGINAL-URL:https://pillaracademy.ca
X-WR-CALDESC:Events for Pillar Academy Strathroy
BEGIN:VEVENT
DTSTART;TZID=UTC+0:20180421T180000
DTEND;TZID=UTC+0:20180421T180000
DTSTAMP:20260420T045507
CREATED:20180316T154731Z
LAST-MODIFIED:20180316T154750Z
UID:13804-1524333600-1524333600@pillaracademy.ca
SUMMARY:Annual Gala: Dreaming Under the Stars
DESCRIPTION: \n
URL:https://pillaracademy.ca/event/annual-gala-dreaming-stars/
END:VEVENT
END:VCALENDAR