BEGIN:VCALENDAR
VERSION:2.0
PRODID:-//Pillar Academy Strathroy - ECPv4.6.4//NONSGML v1.0//EN
CALSCALE:GREGORIAN
METHOD:PUBLISH
X-WR-CALNAME:Pillar Academy Strathroy
X-ORIGINAL-URL:https://pillaracademy.ca
X-WR-CALDESC:Events for Pillar Academy Strathroy
BEGIN:VEVENT
DTSTART;TZID=UTC+0:20181204T083000
DTEND;TZID=UTC+0:20181204T143000
DTSTAMP:20260419T131430
CREATED:20181210T154133Z
LAST-MODIFIED:20181210T154133Z
UID:14126-1543912200-1543933800@pillaracademy.ca
SUMMARY:Annual LDCSB Volleyball Tournament
DESCRIPTION:
URL:https://pillaracademy.ca/event/annual-ldcsb-volleyball-tournament/
END:VEVENT
END:VCALENDAR