BEGIN:VCALENDAR
VERSION:2.0
PRODID:-//Pillar Academy Strathroy - ECPv4.6.4//NONSGML v1.0//EN
CALSCALE:GREGORIAN
METHOD:PUBLISH
X-WR-CALNAME:Pillar Academy Strathroy
X-ORIGINAL-URL:https://pillaracademy.ca
X-WR-CALDESC:Events for Pillar Academy Strathroy
BEGIN:VEVENT
DTSTART;VALUE=DATE:20200316
DTEND;VALUE=DATE:20200317
DTSTAMP:20260423T171025
CREATED:20200113T181631Z
LAST-MODIFIED:20200113T181631Z
UID:14569-1584316800-1584403199@pillaracademy.ca
SUMMARY:Beginning of March Break
DESCRIPTION:
URL:https://pillaracademy.ca/event/beginning-march-break/
END:VEVENT
END:VCALENDAR