BEGIN:VCALENDAR
VERSION:2.0
PRODID:-//Pillar Academy Strathroy - ECPv4.6.4//NONSGML v1.0//EN
CALSCALE:GREGORIAN
METHOD:PUBLISH
X-WR-CALNAME:Pillar Academy Strathroy
X-ORIGINAL-URL:https://pillaracademy.ca
X-WR-CALDESC:Events for Pillar Academy Strathroy
BEGIN:VEVENT
DTSTART;TZID=UTC+0:20211118T193000
DTEND;TZID=UTC+0:20211118T210000
DTSTAMP:20260422T085539
CREATED:20210929T145627Z
LAST-MODIFIED:20210929T155735Z
UID:14862-1637263800-1637269200@pillaracademy.ca
SUMMARY:Board Meeting
DESCRIPTION:OLPA Board Executive only \n
URL:https://pillaracademy.ca/event/board-meeting-7/
END:VEVENT
END:VCALENDAR