BEGIN:VCALENDAR
VERSION:2.0
PRODID:-//Pillar Academy Strathroy - ECPv4.6.4//NONSGML v1.0//EN
CALSCALE:GREGORIAN
METHOD:PUBLISH
X-WR-CALNAME:Pillar Academy Strathroy
X-ORIGINAL-URL:https://pillaracademy.ca
X-WR-CALDESC:Events for Pillar Academy Strathroy
BEGIN:VEVENT
DTSTART;VALUE=DATE:20211220
DTEND;VALUE=DATE:20211221
DTSTAMP:20260420T213700
CREATED:20210929T160900Z
LAST-MODIFIED:20210929T160900Z
UID:14868-1639958400-1640044799@pillaracademy.ca
SUMMARY:Christmas Break Begins
DESCRIPTION:
URL:https://pillaracademy.ca/event/christmas-break-begins/
END:VEVENT
END:VCALENDAR