BEGIN:VCALENDAR
VERSION:2.0
PRODID:-//Pillar Academy Strathroy - ECPv4.6.4//NONSGML v1.0//EN
CALSCALE:GREGORIAN
METHOD:PUBLISH
X-WR-CALNAME:Pillar Academy Strathroy
X-ORIGINAL-URL:https://pillaracademy.ca
X-WR-CALDESC:Events for Pillar Academy Strathroy
BEGIN:VEVENT
DTSTART;TZID=UTC+0:20221222T183000
DTEND;TZID=UTC+0:20221222T223000
DTSTAMP:20260420T115635
CREATED:20221026T005637Z
LAST-MODIFIED:20221129T174057Z
UID:15164-1671733800-1671748200@pillaracademy.ca
SUMMARY:Christmas Social
DESCRIPTION:
URL:https://pillaracademy.ca/event/christmas-pageant/
END:VEVENT
END:VCALENDAR