BEGIN:VCALENDAR
VERSION:2.0
PRODID:-//Pillar Academy Strathroy - ECPv4.6.4//NONSGML v1.0//EN
CALSCALE:GREGORIAN
METHOD:PUBLISH
X-WR-CALNAME:Pillar Academy Strathroy
X-ORIGINAL-URL:https://pillaracademy.ca
X-WR-CALDESC:Events for Pillar Academy Strathroy
BEGIN:VEVENT
DTSTART;TZID=UTC+0:20181109T190000
DTEND;TZID=UTC+0:20181109T220000
DTSTAMP:20260419T195310
CREATED:20180924T152236Z
LAST-MODIFIED:20180924T152236Z
UID:14012-1541790000-1541800800@pillaracademy.ca
SUMMARY:Dr. Andrew Simone Presentation
DESCRIPTION:A presentation by Dr. Andrew Simone\, founder of  ‘Canadian Food For Children’. \n
URL:https://pillaracademy.ca/event/dr-andrew-simone-presentation/
LOCATION:6100 Calvert Drive\, Strathroy\, Ontario\, Canada
END:VEVENT
END:VCALENDAR