BEGIN:VCALENDAR
VERSION:2.0
PRODID:-//Pillar Academy Strathroy - ECPv4.6.4//NONSGML v1.0//EN
CALSCALE:GREGORIAN
METHOD:PUBLISH
X-WR-CALNAME:Pillar Academy Strathroy
X-ORIGINAL-URL:https://pillaracademy.ca
X-WR-CALDESC:Events for Pillar Academy Strathroy
BEGIN:VEVENT
DTSTART;VALUE=DATE:20220418
DTEND;VALUE=DATE:20220419
DTSTAMP:20260421T100532
CREATED:20220307T154334Z
LAST-MODIFIED:20220307T154334Z
UID:14910-1650240000-1650326399@pillaracademy.ca
SUMMARY:Easter Monday
DESCRIPTION:No School \n
URL:https://pillaracademy.ca/event/easter-monday-4/
END:VEVENT
END:VCALENDAR