BEGIN:VCALENDAR
VERSION:2.0
PRODID:-//Pillar Academy Strathroy - ECPv4.6.4//NONSGML v1.0//EN
CALSCALE:GREGORIAN
METHOD:PUBLISH
X-WR-CALNAME:Pillar Academy Strathroy
X-ORIGINAL-URL:https://pillaracademy.ca
X-WR-CALDESC:Events for Pillar Academy Strathroy
BEGIN:VEVENT
DTSTART;VALUE=DATE:20181116
DTEND;VALUE=DATE:20181117
DTSTAMP:20260419T195526
CREATED:20180924T141041Z
LAST-MODIFIED:20181106T164844Z
UID:14004-1542326400-1542412799@pillaracademy.ca
SUMMARY:Enrichment Friday Postponed
DESCRIPTION:The lessons on calligraphy with Mr. Ramsi have been rescheduled for Friday November 30th. \n  \n
URL:https://pillaracademy.ca/event/enrichment-friday/
END:VEVENT
END:VCALENDAR