BEGIN:VCALENDAR
VERSION:2.0
PRODID:-//Pillar Academy Strathroy - ECPv4.6.4//NONSGML v1.0//EN
CALSCALE:GREGORIAN
METHOD:PUBLISH
X-WR-CALNAME:Pillar Academy Strathroy
X-ORIGINAL-URL:https://pillaracademy.ca
X-WR-CALDESC:Events for Pillar Academy Strathroy
BEGIN:VEVENT
DTSTART;VALUE=DATE:20230220
DTEND;VALUE=DATE:20230221
DTSTAMP:20260420T102014
CREATED:20220826T152700Z
LAST-MODIFIED:20220826T152700Z
UID:15093-1676851200-1676937599@pillaracademy.ca
SUMMARY:Family Day Holiday
DESCRIPTION:School is closed. \n
URL:https://pillaracademy.ca/event/family-day-holiday-2/
END:VEVENT
END:VCALENDAR