BEGIN:VCALENDAR
VERSION:2.0
PRODID:-//Pillar Academy Strathroy - ECPv4.6.4//NONSGML v1.0//EN
CALSCALE:GREGORIAN
METHOD:PUBLISH
X-WR-CALNAME:Pillar Academy Strathroy
X-ORIGINAL-URL:https://pillaracademy.ca
X-WR-CALDESC:Events for Pillar Academy Strathroy
BEGIN:VEVENT
DTSTART;TZID=UTC+0:20190217T190000
DTEND;TZID=UTC+0:20190217T220000
DTSTAMP:20260419T151510
CREATED:20181210T160048Z
LAST-MODIFIED:20181210T160048Z
UID:14138-1550430000-1550440800@pillaracademy.ca
SUMMARY:Family Day 'Sock Hop'
DESCRIPTION:Inviting all our community Families and Friends to come for a social evening of fun\, music\, dance and snacks! \n
URL:https://pillaracademy.ca/event/family-day-sock-hop/
LOCATION:6100 Calvert Drive\, Strathroy\, Ontario\, Canada
END:VEVENT
END:VCALENDAR