BEGIN:VCALENDAR
VERSION:2.0
PRODID:-//Pillar Academy Strathroy - ECPv4.6.4//NONSGML v1.0//EN
CALSCALE:GREGORIAN
METHOD:PUBLISH
X-WR-CALNAME:Pillar Academy Strathroy
X-ORIGINAL-URL:https://pillaracademy.ca
X-WR-CALDESC:Events for Pillar Academy Strathroy
BEGIN:VEVENT
DTSTART;VALUE=DATE:20190218
DTEND;VALUE=DATE:20190219
DTSTAMP:20260419T132850
CREATED:20181210T160154Z
LAST-MODIFIED:20181210T160154Z
UID:14140-1550448000-1550534399@pillaracademy.ca
SUMMARY:Family Day!
DESCRIPTION:No school. \n
URL:https://pillaracademy.ca/event/family-day/
END:VEVENT
END:VCALENDAR