BEGIN:VCALENDAR
VERSION:2.0
PRODID:-//Pillar Academy Strathroy - ECPv4.6.4//NONSGML v1.0//EN
CALSCALE:GREGORIAN
METHOD:PUBLISH
X-WR-CALNAME:Pillar Academy Strathroy
X-ORIGINAL-URL:https://pillaracademy.ca
X-WR-CALDESC:Events for Pillar Academy Strathroy
BEGIN:VEVENT
DTSTART;TZID=UTC+0:20230623T080000
DTEND;TZID=UTC+0:20230623T170000
DTSTAMP:20260420T114415
CREATED:20230613T144846Z
LAST-MODIFIED:20230613T144846Z
UID:15261-1687507200-1687539600@pillaracademy.ca
SUMMARY:First day of Summer Holidays
DESCRIPTION:Have a safe and blessed summer! \n
URL:https://pillaracademy.ca/event/first-day-summer-holidays-3/
END:VEVENT
END:VCALENDAR