BEGIN:VCALENDAR
VERSION:2.0
PRODID:-//Pillar Academy Strathroy - ECPv4.6.4//NONSGML v1.0//EN
CALSCALE:GREGORIAN
METHOD:PUBLISH
X-WR-CALNAME:Pillar Academy Strathroy
X-ORIGINAL-URL:https://pillaracademy.ca
X-WR-CALDESC:Events for Pillar Academy Strathroy
BEGIN:VEVENT
DTSTART;TZID=UTC+4:20210619T183000
DTEND;TZID=UTC+4:20210619T203000
DTSTAMP:20260420T111537
CREATED:20210424T153458Z
LAST-MODIFIED:20210424T153458Z
UID:14803-1624127400-1624134600@pillaracademy.ca
SUMMARY:Gala 2021
DESCRIPTION:Streaming Under the Stars June 18 2021. Fot tickets click on the following link. \nStreaming under the Stars – Pillar Gala 2021 – CanadaHelps \n
URL:https://pillaracademy.ca/event/gala-2021/
END:VEVENT
END:VCALENDAR