BEGIN:VCALENDAR
VERSION:2.0
PRODID:-//Pillar Academy Strathroy - ECPv4.6.4//NONSGML v1.0//EN
CALSCALE:GREGORIAN
METHOD:PUBLISH
X-WR-CALNAME:Pillar Academy Strathroy
X-ORIGINAL-URL:https://pillaracademy.ca
X-WR-CALDESC:Events for Pillar Academy Strathroy
BEGIN:VEVENT
DTSTART;TZID=UTC+0:20230415T180000
DTEND;TZID=UTC+0:20230415T180000
DTSTAMP:20260420T063723
CREATED:20221129T171829Z
LAST-MODIFIED:20230301T155112Z
UID:15178-1681581600-1681581600@pillaracademy.ca
SUMMARY:Gala Fundraiser
DESCRIPTION:Please join us! \n
URL:https://pillaracademy.ca/event/gala-fundraiser/
LOCATION:61 Centennial Ave.\, Watford\, Ontario\, Canada
ATTACH;FMTTYPE=image/png:https://pillaracademy.ca/wp-content/uploads/2023/02/Screen-Shot-2023-02-07-at-9.02.37-PM.png
END:VEVENT
END:VCALENDAR