BEGIN:VCALENDAR
VERSION:2.0
PRODID:-//Pillar Academy Strathroy - ECPv4.6.4//NONSGML v1.0//EN
CALSCALE:GREGORIAN
METHOD:PUBLISH
X-WR-CALNAME:Pillar Academy Strathroy
X-ORIGINAL-URL:https://pillaracademy.ca
X-WR-CALDESC:Events for Pillar Academy Strathroy
BEGIN:VEVENT
DTSTART;TZID=UTC+0:20220430T180000
DTEND;TZID=UTC+0:20220430T233000
DTSTAMP:20260421T121526
CREATED:20220310T185902Z
LAST-MODIFIED:20220328T141222Z
UID:14944-1651341600-1651361400@pillaracademy.ca
SUMMARY:'ROOTED IN CHRIST' GALA
DESCRIPTION:  \n  \n
URL:https://pillaracademy.ca/event/gala/
LOCATION:224 McLeod Street\, Parkhill\, Ontario\, Canada
ATTACH;FMTTYPE=image/jpeg:https://pillaracademy.ca/wp-content/uploads/2022/03/2022-Pillar-Gala-Poster-scaled.jpg
END:VEVENT
END:VCALENDAR