BEGIN:VCALENDAR
VERSION:2.0
PRODID:-//Pillar Academy Strathroy - ECPv4.6.4//NONSGML v1.0//EN
CALSCALE:GREGORIAN
METHOD:PUBLISH
X-WR-CALNAME:Pillar Academy Strathroy
X-ORIGINAL-URL:https://pillaracademy.ca
X-WR-CALDESC:Events for Pillar Academy Strathroy
BEGIN:VEVENT
DTSTART;TZID=UTC+0:20230621T080000
DTEND;TZID=UTC+0:20230621T170000
DTSTAMP:20260420T082247
CREATED:20230516T175004Z
LAST-MODIFIED:20230516T175004Z
UID:15243-1687334400-1687366800@pillaracademy.ca
SUMMARY:Geography Fair
DESCRIPTION:for grade 4-8 students \n
URL:https://pillaracademy.ca/event/geography-fair/
END:VEVENT
END:VCALENDAR