BEGIN:VCALENDAR
VERSION:2.0
PRODID:-//Pillar Academy Strathroy - ECPv4.6.4//NONSGML v1.0//EN
CALSCALE:GREGORIAN
METHOD:PUBLISH
X-WR-CALNAME:Pillar Academy Strathroy
X-ORIGINAL-URL:https://pillaracademy.ca
X-WR-CALDESC:Events for Pillar Academy Strathroy
BEGIN:VEVENT
DTSTART;VALUE=DATE:20230616
DTEND;VALUE=DATE:20230617
DTSTAMP:20260420T044558
CREATED:20220826T151636Z
LAST-MODIFIED:20230301T153948Z
UID:15073-1686873600-1686959999@pillaracademy.ca
SUMMARY:School Mass
DESCRIPTION:Mass at All Saints Church\, Strathroy. More details to be announced. \n
URL:https://pillaracademy.ca/event/graduation-mass/
END:VEVENT
END:VCALENDAR