BEGIN:VCALENDAR
VERSION:2.0
PRODID:-//Pillar Academy Strathroy - ECPv4.6.4//NONSGML v1.0//EN
CALSCALE:GREGORIAN
METHOD:PUBLISH
X-WR-CALNAME:Pillar Academy Strathroy
X-ORIGINAL-URL:https://pillaracademy.ca
X-WR-CALDESC:Events for Pillar Academy Strathroy
BEGIN:VEVENT
DTSTART;TZID=UTC+0:20221103T083000
DTEND;TZID=UTC+0:20221103T143000
DTSTAMP:20260420T135033
CREATED:20221026T005401Z
LAST-MODIFIED:20221026T005401Z
UID:15160-1667464200-1667485800@pillaracademy.ca
SUMMARY:Intermediate Recreational Tchoukball Tournament
DESCRIPTION:
URL:https://pillaracademy.ca/event/intermediate-recreational-tchoukball-tournament/
END:VEVENT
END:VCALENDAR