BEGIN:VCALENDAR
VERSION:2.0
PRODID:-//Pillar Academy Strathroy - ECPv4.6.4//NONSGML v1.0//EN
CALSCALE:GREGORIAN
METHOD:PUBLISH
X-WR-CALNAME:Pillar Academy Strathroy
X-ORIGINAL-URL:https://pillaracademy.ca
X-WR-CALDESC:Events for Pillar Academy Strathroy
BEGIN:VEVENT
DTSTART;TZID=UTC+0:20221101T083000
DTEND;TZID=UTC+0:20221101T143000
DTSTAMP:20260420T153229
CREATED:20221026T005222Z
LAST-MODIFIED:20221026T005222Z
UID:15156-1667291400-1667313000@pillaracademy.ca
SUMMARY:Junior Girls Recreational Soccer Tournament
DESCRIPTION:
URL:https://pillaracademy.ca/event/junior-girls-recreational-soccer-tournament/
END:VEVENT
END:VCALENDAR