BEGIN:VCALENDAR
VERSION:2.0
PRODID:-//Pillar Academy Strathroy - ECPv4.6.4//NONSGML v1.0//EN
CALSCALE:GREGORIAN
METHOD:PUBLISH
X-WR-CALNAME:Pillar Academy Strathroy
X-ORIGINAL-URL:https://pillaracademy.ca
X-WR-CALDESC:Events for Pillar Academy Strathroy
BEGIN:VEVENT
DTSTART;TZID=UTC+0:20220530T083000
DTEND;TZID=UTC+0:20220530T153000
DTSTAMP:20260421T170953
CREATED:20220509T132129Z
LAST-MODIFIED:20220509T132129Z
UID:15010-1653899400-1653924600@pillaracademy.ca
SUMMARY:London Catholic Schools Track and Field Meet
DESCRIPTION:Participating in the LDCSB’s Track and Field taking place at the Western Alumni Stadium in London \n
URL:https://pillaracademy.ca/event/london-catholic-schools-track-field-meet/
END:VEVENT
END:VCALENDAR