BEGIN:VCALENDAR
VERSION:2.0
PRODID:-//Pillar Academy Strathroy - ECPv4.6.4//NONSGML v1.0//EN
CALSCALE:GREGORIAN
METHOD:PUBLISH
X-WR-CALNAME:Pillar Academy Strathroy
X-ORIGINAL-URL:https://pillaracademy.ca
X-WR-CALDESC:Events for Pillar Academy Strathroy
BEGIN:VEVENT
DTSTART;VALUE=DATE:20230313
DTEND;VALUE=DATE:20230318
DTSTAMP:20260420T095935
CREATED:20220826T152614Z
LAST-MODIFIED:20220826T152614Z
UID:15091-1678665600-1679097599@pillaracademy.ca
SUMMARY:March Break
DESCRIPTION:School is closed! \n
URL:https://pillaracademy.ca/event/march-break-3/
END:VEVENT
END:VCALENDAR