BEGIN:VCALENDAR
VERSION:2.0
PRODID:-//Pillar Academy Strathroy - ECPv4.6.4//NONSGML v1.0//EN
CALSCALE:GREGORIAN
METHOD:PUBLISH
X-WR-CALNAME:Pillar Academy Strathroy
X-ORIGINAL-URL:https://pillaracademy.ca
X-WR-CALDESC:Events for Pillar Academy Strathroy
BEGIN:VEVENT
DTSTART;TZID=UTC+0:20220413T090000
DTEND;TZID=UTC+0:20220413T214500
DTSTAMP:20260421T100254
CREATED:20220324T125348Z
LAST-MODIFIED:20220324T125457Z
UID:14965-1649840400-1649886300@pillaracademy.ca
SUMMARY:Mass at All Saints Church\, Strathroy
DESCRIPTION:
URL:https://pillaracademy.ca/event/mass-2/
LOCATION:124 Front St. E.\, Strathroy\, Ontario\, N7G 1Y9\, Canada
END:VEVENT
END:VCALENDAR