BEGIN:VCALENDAR
VERSION:2.0
PRODID:-//Pillar Academy Strathroy - ECPv4.6.4//NONSGML v1.0//EN
CALSCALE:GREGORIAN
METHOD:PUBLISH
X-WR-CALNAME:Pillar Academy Strathroy
X-ORIGINAL-URL:https://pillaracademy.ca
X-WR-CALDESC:Events for Pillar Academy Strathroy
BEGIN:VEVENT
DTSTART;TZID=UTC+0:20181121T190000
DTEND;TZID=UTC+0:20181121T220000
DTSTAMP:20260419T162541
CREATED:20181106T172938Z
LAST-MODIFIED:20181112T191549Z
UID:14097-1542826800-1542837600@pillaracademy.ca
SUMMARY:'Meet & Greet' social with Fr. Ben Luedtke
DESCRIPTION:Everyone welcome for a social gathering at the closing of Mission week! \nAn opportunity to enjoy conversation\, fellowship and refreshments! \n  \n
URL:https://pillaracademy.ca/event/meet-greet-fr-ben-luedtke/
END:VEVENT
END:VCALENDAR