BEGIN:VCALENDAR
VERSION:2.0
PRODID:-//Pillar Academy Strathroy - ECPv4.6.4//NONSGML v1.0//EN
CALSCALE:GREGORIAN
METHOD:PUBLISH
X-WR-CALNAME:Pillar Academy Strathroy
X-ORIGINAL-URL:https://pillaracademy.ca
X-WR-CALDESC:Events for Pillar Academy Strathroy
BEGIN:VEVENT
DTSTART;VALUE=DATE:20211225
DTEND;VALUE=DATE:20211226
DTSTAMP:20260420T215112
CREATED:20211208T141535Z
LAST-MODIFIED:20211208T141535Z
UID:14882-1640390400-1640476799@pillaracademy.ca
SUMMARY:Merry Christmas!
DESCRIPTION:Jesus Christ is born! \n
URL:https://pillaracademy.ca/event/merry-christmas-2/
END:VEVENT
END:VCALENDAR