BEGIN:VCALENDAR
VERSION:2.0
PRODID:-//Pillar Academy Strathroy - ECPv4.6.4//NONSGML v1.0//EN
CALSCALE:GREGORIAN
METHOD:PUBLISH
X-WR-CALNAME:Pillar Academy Strathroy
X-ORIGINAL-URL:https://pillaracademy.ca
X-WR-CALDESC:Events for Pillar Academy Strathroy
BEGIN:VEVENT
DTSTART;VALUE=DATE:20251012
DTEND;VALUE=DATE:20251013
DTSTAMP:20260420T105955
CREATED:20251001T170737Z
LAST-MODIFIED:20251001T170737Z
UID:15804-1760227200-1760313599@pillaracademy.ca
SUMMARY:Our Lady of the Pillar Feast Day
DESCRIPTION:
URL:https://pillaracademy.ca/event/our-lady-of-the-pillar-feast-day/
END:VEVENT
END:VCALENDAR