BEGIN:VCALENDAR
VERSION:2.0
PRODID:-//Pillar Academy Strathroy - ECPv4.6.4//NONSGML v1.0//EN
CALSCALE:GREGORIAN
METHOD:PUBLISH
X-WR-CALNAME:Pillar Academy Strathroy
X-ORIGINAL-URL:https://pillaracademy.ca
X-WR-CALDESC:Events for Pillar Academy Strathroy
BEGIN:VEVENT
DTSTART;VALUE=DATE:20221118
DTEND;VALUE=DATE:20221119
DTSTAMP:20260420T120534
CREATED:20220826T152326Z
LAST-MODIFIED:20220826T152326Z
UID:15087-1668729600-1668815999@pillaracademy.ca
SUMMARY:P.D. Day
DESCRIPTION:School is closed! \n
URL:https://pillaracademy.ca/event/p-d-day-2/
END:VEVENT
END:VCALENDAR