BEGIN:VCALENDAR
VERSION:2.0
PRODID:-//Pillar Academy Strathroy - ECPv4.6.4//NONSGML v1.0//EN
CALSCALE:GREGORIAN
METHOD:PUBLISH
X-WR-CALNAME:Pillar Academy Strathroy
X-ORIGINAL-URL:https://pillaracademy.ca
X-WR-CALDESC:Events for Pillar Academy Strathroy
BEGIN:VEVENT
DTSTART;VALUE=DATE:20230203
DTEND;VALUE=DATE:20230204
DTSTAMP:20260420T115326
CREATED:20220826T155549Z
LAST-MODIFIED:20220826T155549Z
UID:15117-1675382400-1675468799@pillaracademy.ca
SUMMARY:P.D. Day
DESCRIPTION:School is closed! \n
URL:https://pillaracademy.ca/event/p-d-day-3/
END:VEVENT
END:VCALENDAR