BEGIN:VCALENDAR
VERSION:2.0
PRODID:-//Pillar Academy Strathroy - ECPv4.6.4//NONSGML v1.0//EN
CALSCALE:GREGORIAN
METHOD:PUBLISH
X-WR-CALNAME:Pillar Academy Strathroy
X-ORIGINAL-URL:https://pillaracademy.ca
X-WR-CALDESC:Events for Pillar Academy Strathroy
BEGIN:VEVENT
DTSTART;TZID=UTC+0:20220323T193000
DTEND;TZID=UTC+0:20220323T210000
DTSTAMP:20260421T082025
CREATED:20220303T144516Z
LAST-MODIFIED:20220310T185605Z
UID:14900-1648063800-1648069200@pillaracademy.ca
SUMMARY:Parent Meeting
DESCRIPTION:A meeting for all Pillar parents will be held at the school. \n
URL:https://pillaracademy.ca/event/parent-meeting-12/
END:VEVENT
END:VCALENDAR