BEGIN:VCALENDAR
VERSION:2.0
PRODID:-//Pillar Academy Strathroy - ECPv4.6.4//NONSGML v1.0//EN
CALSCALE:GREGORIAN
METHOD:PUBLISH
X-WR-CALNAME:Pillar Academy Strathroy
X-ORIGINAL-URL:https://pillaracademy.ca
X-WR-CALDESC:Events for Pillar Academy Strathroy
BEGIN:VEVENT
DTSTART;TZID=UTC+0:20230329T144500
DTEND;TZID=UTC+0:20230329T160000
DTSTAMP:20260420T113223
CREATED:20230301T154421Z
LAST-MODIFIED:20230301T154421Z
UID:15212-1680101100-1680105600@pillaracademy.ca
SUMMARY:Parent Meeting
DESCRIPTION:
URL:https://pillaracademy.ca/event/parent-meeting-16/
END:VEVENT
END:VCALENDAR