BEGIN:VCALENDAR
VERSION:2.0
PRODID:-//Pillar Academy Strathroy - ECPv4.6.4//NONSGML v1.0//EN
CALSCALE:GREGORIAN
METHOD:PUBLISH
X-WR-CALNAME:Pillar Academy Strathroy
X-ORIGINAL-URL:https://pillaracademy.ca
X-WR-CALDESC:Events for Pillar Academy Strathroy
BEGIN:VEVENT
DTSTART;TZID=UTC+0:20190207T150000
DTEND;TZID=UTC+0:20190207T183000
DTSTAMP:20260421T104041
CREATED:20181210T164535Z
LAST-MODIFIED:20181210T164535Z
UID:14166-1549551600-1549564200@pillaracademy.ca
SUMMARY:Parent/Teacher Interviews
DESCRIPTION:
URL:https://pillaracademy.ca/event/parentteacher-interviews/
END:VEVENT
END:VCALENDAR