BEGIN:VCALENDAR
VERSION:2.0
PRODID:-//Pillar Academy Strathroy - ECPv4.6.4//NONSGML v1.0//EN
CALSCALE:GREGORIAN
METHOD:PUBLISH
X-WR-CALNAME:Pillar Academy Strathroy
X-ORIGINAL-URL:https://pillaracademy.ca
X-WR-CALDESC:Events for Pillar Academy Strathroy
BEGIN:VEVENT
DTSTART;TZID=UTC+0:20220304T090000
DTEND;TZID=UTC+0:20220304T140000
DTSTAMP:20260421T044157
CREATED:20220303T144312Z
LAST-MODIFIED:20220303T144312Z
UID:14898-1646384400-1646402400@pillaracademy.ca
SUMMARY:PD Day
DESCRIPTION:No school for students. \nStaff meeting at OLPA \n
URL:https://pillaracademy.ca/event/pd-day-7/
END:VEVENT
END:VCALENDAR