BEGIN:VCALENDAR
VERSION:2.0
PRODID:-//Pillar Academy Strathroy - ECPv4.6.4//NONSGML v1.0//EN
CALSCALE:GREGORIAN
METHOD:PUBLISH
X-WR-CALNAME:Pillar Academy Strathroy
X-ORIGINAL-URL:https://pillaracademy.ca
X-WR-CALDESC:Events for Pillar Academy Strathroy
BEGIN:VEVENT
DTSTART;TZID=UTC+0:20171116T190000
DTEND;TZID=UTC+0:20171116T210000
DTSTAMP:20260420T064356
CREATED:20171112T011947Z
LAST-MODIFIED:20171112T011947Z
UID:13782-1510858800-1510866000@pillaracademy.ca
SUMMARY:Presentation by Fr. Peter Hrytsyk
DESCRIPTION: \n
URL:https://pillaracademy.ca/event/presentation-fr-peter-hrytsyk/
LOCATION:6100 Calvert Drive\, Strathroy\, Ontario\, Canada
END:VEVENT
END:VCALENDAR