BEGIN:VCALENDAR
VERSION:2.0
PRODID:-//Pillar Academy Strathroy - ECPv4.6.4//NONSGML v1.0//EN
CALSCALE:GREGORIAN
METHOD:PUBLISH
X-WR-CALNAME:Pillar Academy Strathroy
X-ORIGINAL-URL:https://pillaracademy.ca
X-WR-CALDESC:Events for Pillar Academy Strathroy
BEGIN:VEVENT
DTSTART;VALUE=DATE:20181214
DTEND;VALUE=DATE:20181215
DTSTAMP:20260419T160405
CREATED:20180924T153521Z
LAST-MODIFIED:20180924T153521Z
UID:14019-1544745600-1544831999@pillaracademy.ca
SUMMARY:Rehearsal for Christmas Celebration
DESCRIPTION:
URL:https://pillaracademy.ca/event/rehearsal-christmas-celebration/
LOCATION:6100 Calvert Drive\, Strathroy\, Ontario\, Canada
END:VEVENT
END:VCALENDAR