BEGIN:VCALENDAR
VERSION:2.0
PRODID:-//Pillar Academy Strathroy - ECPv4.6.4//NONSGML v1.0//EN
CALSCALE:GREGORIAN
METHOD:PUBLISH
X-WR-CALNAME:Pillar Academy Strathroy
X-ORIGINAL-URL:https://pillaracademy.ca
X-WR-CALDESC:Events for Pillar Academy Strathroy
BEGIN:VEVENT
DTSTART;VALUE=DATE:20171110
DTEND;VALUE=DATE:20171111
DTSTAMP:20260420T100244
CREATED:20171111T225752Z
LAST-MODIFIED:20171111T225752Z
UID:13743-1510272000-1510358399@pillaracademy.ca
SUMMARY:Remembrance Day Assembly
DESCRIPTION:
URL:https://pillaracademy.ca/event/remembrance-day-assembly/
END:VEVENT
END:VCALENDAR