BEGIN:VCALENDAR
VERSION:2.0
PRODID:-//Pillar Academy Strathroy - ECPv4.6.4//NONSGML v1.0//EN
CALSCALE:GREGORIAN
METHOD:PUBLISH
X-WR-CALNAME:Pillar Academy Strathroy
X-ORIGINAL-URL:https://pillaracademy.ca
X-WR-CALDESC:Events for Pillar Academy Strathroy
BEGIN:VEVENT
DTSTART;VALUE=DATE:20181112
DTEND;VALUE=DATE:20181113
DTSTAMP:20260419T211432
CREATED:20180924T142655Z
LAST-MODIFIED:20180924T142655Z
UID:14010-1541980800-1542067199@pillaracademy.ca
SUMMARY:Remembrance Day Commemoration!
DESCRIPTION:
URL:https://pillaracademy.ca/event/remembrance-day-commemoration/
END:VEVENT
END:VCALENDAR