BEGIN:VCALENDAR
VERSION:2.0
PRODID:-//Pillar Academy Strathroy - ECPv4.6.4//NONSGML v1.0//EN
CALSCALE:GREGORIAN
METHOD:PUBLISH
X-WR-CALNAME:Pillar Academy Strathroy
X-ORIGINAL-URL:https://pillaracademy.ca
X-WR-CALDESC:Events for Pillar Academy Strathroy
BEGIN:VEVENT
DTSTART;TZID=UTC+0:20220921T090000
DTEND;TZID=UTC+0:20220921T110000
DTSTAMP:20260420T120440
CREATED:20220826T151009Z
LAST-MODIFIED:20220826T151009Z
UID:15057-1663750800-1663758000@pillaracademy.ca
SUMMARY:School Mass
DESCRIPTION:Mass at All Saints Church\, Strathroy \n
URL:https://pillaracademy.ca/event/school-mass-15/
END:VEVENT
END:VCALENDAR