BEGIN:VCALENDAR
VERSION:2.0
PRODID:-//Pillar Academy Strathroy - ECPv4.6.4//NONSGML v1.0//EN
CALSCALE:GREGORIAN
METHOD:PUBLISH
X-WR-CALNAME:Pillar Academy Strathroy
X-ORIGINAL-URL:https://pillaracademy.ca
X-WR-CALDESC:Events for Pillar Academy Strathroy
BEGIN:VEVENT
DTSTART;TZID=UTC+0:20221221T090000
DTEND;TZID=UTC+0:20221221T100000
DTSTAMP:20260420T101034
CREATED:20220826T151212Z
LAST-MODIFIED:20220826T151212Z
UID:15061-1671613200-1671616800@pillaracademy.ca
SUMMARY:School Mass
DESCRIPTION:Mass at All Saints Church\, Strathroy. \n
URL:https://pillaracademy.ca/event/school-mass-17/
END:VEVENT
END:VCALENDAR