BEGIN:VCALENDAR
VERSION:2.0
PRODID:-//Pillar Academy Strathroy - ECPv4.6.4//NONSGML v1.0//EN
CALSCALE:GREGORIAN
METHOD:PUBLISH
X-WR-CALNAME:Pillar Academy Strathroy
X-ORIGINAL-URL:https://pillaracademy.ca
X-WR-CALDESC:Events for Pillar Academy Strathroy
BEGIN:VEVENT
DTSTART;TZID=UTC+0:20230421T090000
DTEND;TZID=UTC+0:20230421T100000
DTSTAMP:20260420T043925
CREATED:20220826T151439Z
LAST-MODIFIED:20230301T153844Z
UID:15069-1682067600-1682071200@pillaracademy.ca
SUMMARY:School Mass
DESCRIPTION:Mass at All Saints Church\, Strathroy. \n
URL:https://pillaracademy.ca/event/school-mass-21/
END:VEVENT
END:VCALENDAR