BEGIN:VCALENDAR
VERSION:2.0
PRODID:-//Pillar Academy Strathroy - ECPv4.6.4//NONSGML v1.0//EN
CALSCALE:GREGORIAN
METHOD:PUBLISH
X-WR-CALNAME:Pillar Academy Strathroy
X-ORIGINAL-URL:https://pillaracademy.ca
X-WR-CALDESC:Events for Pillar Academy Strathroy
BEGIN:VEVENT
DTSTART;TZID=UTC+0:20190306T120000
DTEND;TZID=UTC+0:20190306T130000
DTSTAMP:20260421T103538
CREATED:20181210T160651Z
LAST-MODIFIED:20190306T150803Z
UID:14142-1551873600-1551877200@pillaracademy.ca
SUMMARY:School Mass
DESCRIPTION:OLPA will be celebrating Ash Wednesday mass together with the parishioners of All Saints Parish Church. \n
URL:https://pillaracademy.ca/event/school-mass-5/
LOCATION:124 Front St. E.\, Strathroy\, Ontario\, N7G 1Y9\, Canada
END:VEVENT
END:VCALENDAR