BEGIN:VCALENDAR
VERSION:2.0
PRODID:-//Pillar Academy Strathroy - ECPv4.6.4//NONSGML v1.0//EN
CALSCALE:GREGORIAN
METHOD:PUBLISH
X-WR-CALNAME:Pillar Academy Strathroy
X-ORIGINAL-URL:https://pillaracademy.ca
X-WR-CALDESC:Events for Pillar Academy Strathroy
BEGIN:VEVENT
DTSTART;TZID=UTC+0:20250216T180000
DTEND;TZID=UTC+0:20250216T210000
DTSTAMP:20260419T152931
CREATED:20250113T193913Z
LAST-MODIFIED:20250113T193913Z
UID:15638-1739728800-1739739600@pillaracademy.ca
SUMMARY:Sock Hop
DESCRIPTION: \n
URL:https://pillaracademy.ca/event/sock-hop/
LOCATION:6100 Calvert Drive\, Strathroy\, Ontario\, Canada
END:VEVENT
END:VCALENDAR