BEGIN:VCALENDAR
VERSION:2.0
PRODID:-//Pillar Academy Strathroy - ECPv4.6.4//NONSGML v1.0//EN
CALSCALE:GREGORIAN
METHOD:PUBLISH
X-WR-CALNAME:Pillar Academy Strathroy
X-ORIGINAL-URL:https://pillaracademy.ca
X-WR-CALDESC:Events for Pillar Academy Strathroy
BEGIN:VEVENT
DTSTART;TZID=UTC+0:20230222T120000
DTEND;TZID=UTC+0:20230222T123000
DTSTAMP:20260420T100336
CREATED:20220826T151924Z
LAST-MODIFIED:20220826T151924Z
UID:15077-1677067200-1677069000@pillaracademy.ca
SUMMARY:Soup day
DESCRIPTION:Soup is being served during second nutritional break. \n
URL:https://pillaracademy.ca/event/soup-day-6/
END:VEVENT
END:VCALENDAR