BEGIN:VCALENDAR
VERSION:2.0
PRODID:-//Pillar Academy Strathroy - ECPv4.6.4//NONSGML v1.0//EN
CALSCALE:GREGORIAN
METHOD:PUBLISH
X-WR-CALNAME:Pillar Academy Strathroy
X-ORIGINAL-URL:https://pillaracademy.ca
X-WR-CALDESC:Events for Pillar Academy Strathroy
BEGIN:VEVENT
DTSTART;TZID=UTC+0:20180926T123000
DTEND;TZID=UTC+0:20180926T123000
DTSTAMP:20260419T233059
CREATED:20180924T134029Z
LAST-MODIFIED:20180924T134029Z
UID:13997-1537965000-1537965000@pillaracademy.ca
SUMMARY:Soup Day
DESCRIPTION:For OLPA students and staff. \n
URL:https://pillaracademy.ca/event/soup-day/
END:VEVENT
END:VCALENDAR