BEGIN:VCALENDAR
VERSION:2.0
PRODID:-//Pillar Academy Strathroy - ECPv4.6.4//NONSGML v1.0//EN
CALSCALE:GREGORIAN
METHOD:PUBLISH
X-WR-CALNAME:Pillar Academy Strathroy
X-ORIGINAL-URL:https://pillaracademy.ca
X-WR-CALDESC:Events for Pillar Academy Strathroy
BEGIN:VEVENT
DTSTART;VALUE=DATE:20210317
DTEND;VALUE=DATE:20210318
DTSTAMP:20260420T093520
CREATED:20210209T162816Z
LAST-MODIFIED:20210209T162816Z
UID:14770-1615939200-1616025599@pillaracademy.ca
SUMMARY:St. Patrick's Day
DESCRIPTION:
URL:https://pillaracademy.ca/event/st-patricks-day/
END:VEVENT
END:VCALENDAR