BEGIN:VCALENDAR
VERSION:2.0
PRODID:-//Pillar Academy Strathroy - ECPv4.6.4//NONSGML v1.0//EN
CALSCALE:GREGORIAN
METHOD:PUBLISH
X-WR-CALNAME:Pillar Academy Strathroy
X-ORIGINAL-URL:https://pillaracademy.ca
X-WR-CALDESC:Events for Pillar Academy Strathroy
BEGIN:VEVENT
DTSTART;TZID=UTC+0:20230529T080000
DTEND;TZID=UTC+0:20230529T170000
DTSTAMP:20260420T004628
CREATED:20230516T174049Z
LAST-MODIFIED:20230516T174049Z
UID:15235-1685347200-1685379600@pillaracademy.ca
SUMMARY:Track and Field
DESCRIPTION:Joining the LDCSB’s Track and Field Day. \n
URL:https://pillaracademy.ca/event/track-and-field-2/
END:VEVENT
END:VCALENDAR