BEGIN:VCALENDAR
VERSION:2.0
PRODID:-//Pillar Academy Strathroy - ECPv4.6.4//NONSGML v1.0//EN
CALSCALE:GREGORIAN
METHOD:PUBLISH
X-WR-CALNAME:Pillar Academy Strathroy
X-ORIGINAL-URL:https://pillaracademy.ca
X-WR-CALDESC:Events for Pillar Academy Strathroy
BEGIN:VEVENT
DTSTART;VALUE=DATE:20220523
DTEND;VALUE=DATE:20220524
DTSTAMP:20260421T184240
CREATED:20220307T154935Z
LAST-MODIFIED:20220307T154935Z
UID:14918-1653264000-1653350399@pillaracademy.ca
SUMMARY:Victoria Day
DESCRIPTION:No school \n
URL:https://pillaracademy.ca/event/victoria-day/
END:VEVENT
END:VCALENDAR