BEGIN:VCALENDAR
VERSION:2.0
PRODID:-//Pillar Academy Strathroy - ECPv4.6.4//NONSGML v1.0//EN
CALSCALE:GREGORIAN
METHOD:PUBLISH
X-WR-CALNAME:Pillar Academy Strathroy
X-ORIGINAL-URL:https://pillaracademy.ca
X-WR-CALDESC:Events for Pillar Academy Strathroy
BEGIN:VEVENT
DTSTART;TZID=UTC+0:20211216T134500
DTEND;TZID=UTC+0:20211216T143000
DTSTAMP:20260420T200140
CREATED:20211208T141327Z
LAST-MODIFIED:20211208T141327Z
UID:14880-1639662300-1639665000@pillaracademy.ca
SUMMARY:Virtual Christmas Celebration
DESCRIPTION:
URL:https://pillaracademy.ca/event/virtual-christmas-celebration/
LOCATION:6100 Calvert Drive\, Strathroy\, Ontario\, Canada
END:VEVENT
END:VCALENDAR