BEGIN:VCALENDAR
VERSION:2.0
PRODID:-//Pillar Academy Strathroy - ECPv4.6.4//NONSGML v1.0//EN
CALSCALE:GREGORIAN
METHOD:PUBLISH
X-WR-CALNAME:Pillar Academy Strathroy
X-ORIGINAL-URL:https://pillaracademy.ca
X-WR-CALDESC:Events for Pillar Academy Strathroy
BEGIN:VEVENT
DTSTART;TZID=UTC+0:20220330T080000
DTEND;TZID=UTC+0:20220330T170000
DTSTAMP:20260421T090532
CREATED:20220303T144643Z
LAST-MODIFIED:20220303T144643Z
UID:14904-1648627200-1648659600@pillaracademy.ca
SUMMARY:Warm up Wednesday
DESCRIPTION:
URL:https://pillaracademy.ca/event/warm-up-wednesday-6/
END:VEVENT
END:VCALENDAR