BEGIN:VCALENDAR
VERSION:2.0
PRODID:-//Pillar Academy Strathroy - ECPv4.6.4//NONSGML v1.0//EN
CALSCALE:GREGORIAN
METHOD:PUBLISH
X-WR-CALNAME:Pillar Academy Strathroy
X-ORIGINAL-URL:https://pillaracademy.ca
X-WR-CALDESC:Events for Pillar Academy Strathroy
BEGIN:VEVENT
DTSTART;TZID=UTC+0:20190529T123000
DTEND;TZID=UTC+0:20190529T130000
DTSTAMP:20260421T091113
CREATED:20190430T173629Z
LAST-MODIFIED:20190513T161855Z
UID:14248-1559133000-1559134800@pillaracademy.ca
SUMMARY:School Pizza Party
DESCRIPTION:In celebration of the students that have received a sacrament this school year. \n
URL:https://pillaracademy.ca/event/warm-up-wednesday/
END:VEVENT
END:VCALENDAR