BEGIN:VCALENDAR
VERSION:2.0
PRODID:-//Pillar Academy Strathroy - ECPv4.6.4//NONSGML v1.0//EN
CALSCALE:GREGORIAN
METHOD:PUBLISH
X-WR-CALNAME:Pillar Academy Strathroy
X-ORIGINAL-URL:https://pillaracademy.ca
X-WR-CALDESC:Events for Pillar Academy Strathroy
BEGIN:VEVENT
DTSTART;TZID=UTC+0:20230622T080000
DTEND;TZID=UTC+0:20230622T170000
DTSTAMP:20260420T100244
CREATED:20230613T144738Z
LAST-MODIFIED:20230613T144738Z
UID:15259-1687420800-1687453200@pillaracademy.ca
SUMMARY:Year-end Fun Day
DESCRIPTION:
URL:https://pillaracademy.ca/event/year-end-fun-day/
END:VEVENT
END:VCALENDAR